BEGIN:VCALENDAR
VERSION:2.0
PRODID:-//IALA - ECPv6.15.17.1//NONSGML v1.0//EN
CALSCALE:GREGORIAN
METHOD:PUBLISH
X-WR-CALNAME:IALA
X-ORIGINAL-URL:https://www.iala.int
X-WR-CALDESC:Events for IALA
REFRESH-INTERVAL;VALUE=DURATION:PT1H
X-Robots-Tag:noindex
X-PUBLISHED-TTL:PT1H
BEGIN:VTIMEZONE
TZID:UTC
BEGIN:STANDARD
TZOFFSETFROM:+0000
TZOFFSETTO:+0000
TZNAME:UTC
DTSTART:20250101T000000
END:STANDARD
END:VTIMEZONE
BEGIN:VEVENT
DTSTART;TZID=UTC:20260323T080000
DTEND;TZID=UTC:20260323T160000
DTSTAMP:20260421T153333
CREATED:20260120T140925Z
LAST-MODIFIED:20260120T140925Z
UID:10013710-1774252800-1774281600@www.iala.int
SUMMARY:DTEC6 WG3
DESCRIPTION:Microsoft Teams meeting \nJoin: https://teams.microsoft.com/meet/31041622333130?p=2kINPyjKdTkEah56qq \nMeeting ID: 310 416 223 331 30 \nPasscode: ZQ2DQ3Gk
URL:https://www.iala.int/calendar/dtec6-wg3/2026-03-23/
CATEGORIES:ENAV,ENAV WG3
END:VEVENT
BEGIN:VEVENT
DTSTART;TZID=UTC:20260324T080000
DTEND;TZID=UTC:20260324T160000
DTSTAMP:20260421T153333
CREATED:20260120T140925Z
LAST-MODIFIED:20260120T140925Z
UID:10013711-1774339200-1774368000@www.iala.int
SUMMARY:DTEC6 WG3
DESCRIPTION:Microsoft Teams meeting \nJoin: https://teams.microsoft.com/meet/31041622333130?p=2kINPyjKdTkEah56qq \nMeeting ID: 310 416 223 331 30 \nPasscode: ZQ2DQ3Gk
URL:https://www.iala.int/calendar/dtec6-wg3/2026-03-24/
CATEGORIES:ENAV,ENAV WG3
END:VEVENT
BEGIN:VEVENT
DTSTART;TZID=UTC:20260325T080000
DTEND;TZID=UTC:20260325T160000
DTSTAMP:20260421T153333
CREATED:20260120T140925Z
LAST-MODIFIED:20260120T140925Z
UID:10013712-1774425600-1774454400@www.iala.int
SUMMARY:DTEC6 WG3
DESCRIPTION:Microsoft Teams meeting \nJoin: https://teams.microsoft.com/meet/31041622333130?p=2kINPyjKdTkEah56qq \nMeeting ID: 310 416 223 331 30 \nPasscode: ZQ2DQ3Gk
URL:https://www.iala.int/calendar/dtec6-wg3/2026-03-25/
CATEGORIES:ENAV,ENAV WG3
END:VEVENT
BEGIN:VEVENT
DTSTART;TZID=UTC:20260326T080000
DTEND;TZID=UTC:20260326T160000
DTSTAMP:20260421T153333
CREATED:20260120T140925Z
LAST-MODIFIED:20260120T140925Z
UID:10013713-1774512000-1774540800@www.iala.int
SUMMARY:DTEC6 WG3
DESCRIPTION:Microsoft Teams meeting \nJoin: https://teams.microsoft.com/meet/31041622333130?p=2kINPyjKdTkEah56qq \nMeeting ID: 310 416 223 331 30 \nPasscode: ZQ2DQ3Gk
URL:https://www.iala.int/calendar/dtec6-wg3/2026-03-26/
CATEGORIES:ENAV,ENAV WG3
END:VEVENT
BEGIN:VEVENT
DTSTART;TZID=UTC:20260327T080000
DTEND;TZID=UTC:20260327T160000
DTSTAMP:20260421T153333
CREATED:20260120T140925Z
LAST-MODIFIED:20260120T140925Z
UID:10013714-1774598400-1774627200@www.iala.int
SUMMARY:DTEC6 WG3
DESCRIPTION:Microsoft Teams meeting \nJoin: https://teams.microsoft.com/meet/31041622333130?p=2kINPyjKdTkEah56qq \nMeeting ID: 310 416 223 331 30 \nPasscode: ZQ2DQ3Gk
URL:https://www.iala.int/calendar/dtec6-wg3/2026-03-27/
CATEGORIES:ENAV,ENAV WG3
END:VEVENT
END:VCALENDAR