BEGIN:VCALENDAR
VERSION:2.0
PRODID:-//IALA - ECPv6.15.17.1//NONSGML v1.0//EN
CALSCALE:GREGORIAN
METHOD:PUBLISH
X-WR-CALNAME:IALA
X-ORIGINAL-URL:https://www.iala.int
X-WR-CALDESC:Events for IALA
REFRESH-INTERVAL;VALUE=DURATION:PT1H
X-Robots-Tag:noindex
X-PUBLISHED-TTL:PT1H
BEGIN:VTIMEZONE
TZID:UTC
BEGIN:STANDARD
TZOFFSETFROM:+0000
TZOFFSETTO:+0000
TZNAME:UTC
DTSTART:20250101T000000
END:STANDARD
END:VTIMEZONE
BEGIN:VEVENT
DTSTART;TZID=UTC:20260818T020000
DTEND;TZID=UTC:20260822T050000
DTSTAMP:20260425T143146
CREATED:20260424T072216Z
LAST-MODIFIED:20260425T102016Z
UID:10013767-1787018400-1787374800@www.iala.int
SUMMARY:DTEC-6.3.10 Intersessional meeting on Guideline on shore based VDES infrastructure
DESCRIPTION:We are pleased to invite you to the IALA DTEC WG3 Intersessional Meeting\, to be held in August 2026 in Dalian\, generously hosted by Dalian Maritime University and Maritime Safety Administration of the People’s Republic of China. \nThe intersessional meeting will take place from Tuesday\, 18 August to Saturday\, 22 August 2026 in a hybrid format\, with facilities available for remote participation. \nSchedule:\n⚫ Tuesday\, August 18\, 2026 – 10:00-17:00 (UTC+8)\n⚫ Wednesday\, August 19\, 2026 – 9:00-17:00 (UTC+8)\n⚫ Thursday\, August 20\, 2026 – 9:00-17:00 (UTC+8)\n⚫ Friday\, August 21\, 2026 – 9:00-17:00 (UTC+8)\n⚫ Saturday\, August 22\, 2026 – 9:00-13:00 (UTC+8) \nMeeting Venue: 34th Floor\, Tower A\, Hi-Chance Science and Technology Building \nProvisional Agenda: \n\nProgress work on the Guideline on Shore-Based VDES Infrastructure (Task 6.3.10)\nDevelopment of a Guideline on the ASM Application Protocol\n\nParticipants are kindly requested to follow the guidance provided in the DTEC6 report regarding registration. In addition\, the host organization would appreciate receiving registrations no later than 28 May 2026. \nRegistration should be submitted via email to:sp@albatros-tech.eu; huaishuaiheng@dlmu.edu.cn; ane@iala.int; stefan.bober@wsv.bund.de \nFor participants requiring an official invitation letter\, please contact: huaishuaiheng@dlmu.edu.cn \nFurther details\, including meeting schedule and logistical information\, are available in the attached PDF document.: WG3_Intersessionnal meeting in August 2026_Transit information and hotel recommendation \n \nMicrosoft Teams meeting \nJoin: https://teams.microsoft.com/meet/34076704352675?p=Kj3Fh1q090rRffT3Tx \nMeeting ID: 340 767 043 526 75 \nPasscode: 8AZ74wV3
URL:https://www.iala.int/calendar/dtec-6-3-10-intersessional-meeting-on-guideline-on-shore-based-vdes-infrastructure/2026-08-18/
CATEGORIES:ENAV,ENAV Intersessional
END:VEVENT
BEGIN:VEVENT
DTSTART;TZID=UTC:20260819T020000
DTEND;TZID=UTC:20260823T050000
DTSTAMP:20260425T143146
CREATED:20260424T072216Z
LAST-MODIFIED:20260425T102016Z
UID:10013770-1787104800-1787461200@www.iala.int
SUMMARY:DTEC-6.3.10 Intersessional meeting on Guideline on shore based VDES infrastructure
DESCRIPTION:We are pleased to invite you to the IALA DTEC WG3 Intersessional Meeting\, to be held in August 2026 in Dalian\, generously hosted by Dalian Maritime University and Maritime Safety Administration of the People’s Republic of China. \nThe intersessional meeting will take place from Tuesday\, 18 August to Saturday\, 22 August 2026 in a hybrid format\, with facilities available for remote participation. \nSchedule:\n⚫ Tuesday\, August 18\, 2026 – 10:00-17:00 (UTC+8)\n⚫ Wednesday\, August 19\, 2026 – 9:00-17:00 (UTC+8)\n⚫ Thursday\, August 20\, 2026 – 9:00-17:00 (UTC+8)\n⚫ Friday\, August 21\, 2026 – 9:00-17:00 (UTC+8)\n⚫ Saturday\, August 22\, 2026 – 9:00-13:00 (UTC+8) \nMeeting Venue: 34th Floor\, Tower A\, Hi-Chance Science and Technology Building \nProvisional Agenda: \n\nProgress work on the Guideline on Shore-Based VDES Infrastructure (Task 6.3.10)\nDevelopment of a Guideline on the ASM Application Protocol\n\nParticipants are kindly requested to follow the guidance provided in the DTEC6 report regarding registration. In addition\, the host organization would appreciate receiving registrations no later than 28 May 2026. \nRegistration should be submitted via email to:sp@albatros-tech.eu; huaishuaiheng@dlmu.edu.cn; ane@iala.int; stefan.bober@wsv.bund.de \nFor participants requiring an official invitation letter\, please contact: huaishuaiheng@dlmu.edu.cn \nFurther details\, including meeting schedule and logistical information\, are available in the attached PDF document.: WG3_Intersessionnal meeting in August 2026_Transit information and hotel recommendation \n \nMicrosoft Teams meeting \nJoin: https://teams.microsoft.com/meet/34076704352675?p=Kj3Fh1q090rRffT3Tx \nMeeting ID: 340 767 043 526 75 \nPasscode: 8AZ74wV3
URL:https://www.iala.int/calendar/dtec-6-3-10-intersessional-meeting-on-guideline-on-shore-based-vdes-infrastructure/2026-08-19/
CATEGORIES:ENAV,ENAV Intersessional
END:VEVENT
BEGIN:VEVENT
DTSTART;TZID=UTC:20260820T020000
DTEND;TZID=UTC:20260824T050000
DTSTAMP:20260425T143146
CREATED:20260424T072216Z
LAST-MODIFIED:20260425T102016Z
UID:10013771-1787191200-1787547600@www.iala.int
SUMMARY:DTEC-6.3.10 Intersessional meeting on Guideline on shore based VDES infrastructure
DESCRIPTION:We are pleased to invite you to the IALA DTEC WG3 Intersessional Meeting\, to be held in August 2026 in Dalian\, generously hosted by Dalian Maritime University and Maritime Safety Administration of the People’s Republic of China. \nThe intersessional meeting will take place from Tuesday\, 18 August to Saturday\, 22 August 2026 in a hybrid format\, with facilities available for remote participation. \nSchedule:\n⚫ Tuesday\, August 18\, 2026 – 10:00-17:00 (UTC+8)\n⚫ Wednesday\, August 19\, 2026 – 9:00-17:00 (UTC+8)\n⚫ Thursday\, August 20\, 2026 – 9:00-17:00 (UTC+8)\n⚫ Friday\, August 21\, 2026 – 9:00-17:00 (UTC+8)\n⚫ Saturday\, August 22\, 2026 – 9:00-13:00 (UTC+8) \nMeeting Venue: 34th Floor\, Tower A\, Hi-Chance Science and Technology Building \nProvisional Agenda: \n\nProgress work on the Guideline on Shore-Based VDES Infrastructure (Task 6.3.10)\nDevelopment of a Guideline on the ASM Application Protocol\n\nParticipants are kindly requested to follow the guidance provided in the DTEC6 report regarding registration. In addition\, the host organization would appreciate receiving registrations no later than 28 May 2026. \nRegistration should be submitted via email to:sp@albatros-tech.eu; huaishuaiheng@dlmu.edu.cn; ane@iala.int; stefan.bober@wsv.bund.de \nFor participants requiring an official invitation letter\, please contact: huaishuaiheng@dlmu.edu.cn \nFurther details\, including meeting schedule and logistical information\, are available in the attached PDF document.: WG3_Intersessionnal meeting in August 2026_Transit information and hotel recommendation \n \nMicrosoft Teams meeting \nJoin: https://teams.microsoft.com/meet/34076704352675?p=Kj3Fh1q090rRffT3Tx \nMeeting ID: 340 767 043 526 75 \nPasscode: 8AZ74wV3
URL:https://www.iala.int/calendar/dtec-6-3-10-intersessional-meeting-on-guideline-on-shore-based-vdes-infrastructure/2026-08-20/
CATEGORIES:ENAV,ENAV Intersessional
END:VEVENT
BEGIN:VEVENT
DTSTART;TZID=UTC:20260821T020000
DTEND;TZID=UTC:20260825T050000
DTSTAMP:20260425T143146
CREATED:20260424T072216Z
LAST-MODIFIED:20260425T102016Z
UID:10013772-1787277600-1787634000@www.iala.int
SUMMARY:DTEC-6.3.10 Intersessional meeting on Guideline on shore based VDES infrastructure
DESCRIPTION:We are pleased to invite you to the IALA DTEC WG3 Intersessional Meeting\, to be held in August 2026 in Dalian\, generously hosted by Dalian Maritime University and Maritime Safety Administration of the People’s Republic of China. \nThe intersessional meeting will take place from Tuesday\, 18 August to Saturday\, 22 August 2026 in a hybrid format\, with facilities available for remote participation. \nSchedule:\n⚫ Tuesday\, August 18\, 2026 – 10:00-17:00 (UTC+8)\n⚫ Wednesday\, August 19\, 2026 – 9:00-17:00 (UTC+8)\n⚫ Thursday\, August 20\, 2026 – 9:00-17:00 (UTC+8)\n⚫ Friday\, August 21\, 2026 – 9:00-17:00 (UTC+8)\n⚫ Saturday\, August 22\, 2026 – 9:00-13:00 (UTC+8) \nMeeting Venue: 34th Floor\, Tower A\, Hi-Chance Science and Technology Building \nProvisional Agenda: \n\nProgress work on the Guideline on Shore-Based VDES Infrastructure (Task 6.3.10)\nDevelopment of a Guideline on the ASM Application Protocol\n\nParticipants are kindly requested to follow the guidance provided in the DTEC6 report regarding registration. In addition\, the host organization would appreciate receiving registrations no later than 28 May 2026. \nRegistration should be submitted via email to:sp@albatros-tech.eu; huaishuaiheng@dlmu.edu.cn; ane@iala.int; stefan.bober@wsv.bund.de \nFor participants requiring an official invitation letter\, please contact: huaishuaiheng@dlmu.edu.cn \nFurther details\, including meeting schedule and logistical information\, are available in the attached PDF document.: WG3_Intersessionnal meeting in August 2026_Transit information and hotel recommendation \n \nMicrosoft Teams meeting \nJoin: https://teams.microsoft.com/meet/34076704352675?p=Kj3Fh1q090rRffT3Tx \nMeeting ID: 340 767 043 526 75 \nPasscode: 8AZ74wV3
URL:https://www.iala.int/calendar/dtec-6-3-10-intersessional-meeting-on-guideline-on-shore-based-vdes-infrastructure/2026-08-21/
CATEGORIES:ENAV,ENAV Intersessional
END:VEVENT
BEGIN:VEVENT
DTSTART;TZID=UTC:20260822T020000
DTEND;TZID=UTC:20260826T050000
DTSTAMP:20260425T143146
CREATED:20260424T072216Z
LAST-MODIFIED:20260425T102016Z
UID:10013773-1787364000-1787720400@www.iala.int
SUMMARY:DTEC-6.3.10 Intersessional meeting on Guideline on shore based VDES infrastructure
DESCRIPTION:We are pleased to invite you to the IALA DTEC WG3 Intersessional Meeting\, to be held in August 2026 in Dalian\, generously hosted by Dalian Maritime University and Maritime Safety Administration of the People’s Republic of China. \nThe intersessional meeting will take place from Tuesday\, 18 August to Saturday\, 22 August 2026 in a hybrid format\, with facilities available for remote participation. \nSchedule:\n⚫ Tuesday\, August 18\, 2026 – 10:00-17:00 (UTC+8)\n⚫ Wednesday\, August 19\, 2026 – 9:00-17:00 (UTC+8)\n⚫ Thursday\, August 20\, 2026 – 9:00-17:00 (UTC+8)\n⚫ Friday\, August 21\, 2026 – 9:00-17:00 (UTC+8)\n⚫ Saturday\, August 22\, 2026 – 9:00-13:00 (UTC+8) \nMeeting Venue: 34th Floor\, Tower A\, Hi-Chance Science and Technology Building \nProvisional Agenda: \n\nProgress work on the Guideline on Shore-Based VDES Infrastructure (Task 6.3.10)\nDevelopment of a Guideline on the ASM Application Protocol\n\nParticipants are kindly requested to follow the guidance provided in the DTEC6 report regarding registration. In addition\, the host organization would appreciate receiving registrations no later than 28 May 2026. \nRegistration should be submitted via email to:sp@albatros-tech.eu; huaishuaiheng@dlmu.edu.cn; ane@iala.int; stefan.bober@wsv.bund.de \nFor participants requiring an official invitation letter\, please contact: huaishuaiheng@dlmu.edu.cn \nFurther details\, including meeting schedule and logistical information\, are available in the attached PDF document.: WG3_Intersessionnal meeting in August 2026_Transit information and hotel recommendation \n \nMicrosoft Teams meeting \nJoin: https://teams.microsoft.com/meet/34076704352675?p=Kj3Fh1q090rRffT3Tx \nMeeting ID: 340 767 043 526 75 \nPasscode: 8AZ74wV3
URL:https://www.iala.int/calendar/dtec-6-3-10-intersessional-meeting-on-guideline-on-shore-based-vdes-infrastructure/2026-08-22/
CATEGORIES:ENAV,ENAV Intersessional
END:VEVENT
END:VCALENDAR